BEGIN:VCALENDAR
VERSION:2.0
PRODID:-//eventon.com NONSGML v1.0//EN
CALSCALE:GREGORIAN
METHOD:PUBLISH
BEGIN:VEVENT
UID:69e8964e8233e
DTSTAMP:20260422T093510Z
DTSTART:20250629
DTEND:20250630
LOCATION:Hitachi Systems Hall Sendai 3 Chome-27-5 Asahigaoka\,  Aoba Ward\,  Sendai\,  Miyagi 981-0904\,  Japan
SUMMARY:Sendai (JP) - Hitachi Systems Hall Sendai
DESCRIPTION:Jurymitglied beim Sendai International Piano Competition\nhttps
 ://www.matthias-kirschnereit.de/events/sendai-jp-hitachi-systems-hall-senda
 i-17/
URL:https://www.matthias-kirschnereit.de/events/sendai-jp-hitachi-systems-hall-sendai-17/
END:VEVENT
END:VCALENDAR