BEGIN:VCALENDAR
VERSION:2.0
PRODID:-//eventon.com NONSGML v1.0//EN
CALSCALE:GREGORIAN
METHOD:PUBLISH
BEGIN:VEVENT
UID:69e896f3916a3
DTSTAMP:20260422T093755Z
DTSTART:20250216T190000Z
DTEND:20250216T210000Z
LOCATION:Staatstheater Cottbus - Großes Haus
SUMMARY:Cottbus - Staatstheater
DESCRIPTION:Wolfgang Amadeus Mozart (1756–1791) Klavierkonzert Nr. 24 c-M
 oll KV 491\nhttps://www.matthias-kirschnereit.de/events/cottbus-staatstheat
 er-2/
URL:https://www.matthias-kirschnereit.de/events/cottbus-staatstheater-2/
END:VEVENT
END:VCALENDAR