BEGIN:VCALENDAR
VERSION:2.0
PRODID:-//eventon.com NONSGML v1.0//EN
CALSCALE:GREGORIAN
METHOD:PUBLISH
BEGIN:VEVENT
UID:69e89709dcb1c
DTSTAMP:20260422T093817Z
DTSTART:20241006T170000Z
DTEND:20241006T190000Z
LOCATION:Treffpunkt für Kunst und Kultur vom AMEOS Klinikum Gertrudenring 5\,  49088 Osnabrück
SUMMARY:Osnabrück - Treffpunkt für Kunst und Kultur
DESCRIPTION:Klavierabend mit Werken von Beethoven\,  Wagner\,  CPE Bach u.a
 .\nhttps://www.matthias-kirschnereit.de/events/osnabrueck-treffpunkt-fuer-k
 unst-und-kultur/
URL:https://www.matthias-kirschnereit.de/events/osnabrueck-treffpunkt-fuer-kunst-und-kultur/
END:VEVENT
END:VCALENDAR