BEGIN:VCALENDAR
VERSION:2.0
PRODID:-//eventon.com NONSGML v1.0//EN
CALSCALE:GREGORIAN
METHOD:PUBLISH
BEGIN:VEVENT
UID:69e64191f1643
DTSTAMP:20260420T150905Z
DTSTART:20240609T190000Z
DTEND:20240609T210000Z
LOCATION:Brühler Schloss
SUMMARY:Brühl - Schlosskonzerte
DESCRIPTION:Duo mit Lena Neudauer\nhttps://www.matthias-kirschnereit.de/eve
 nts/bruehl-schlosskonzerte-2/
URL:https://www.matthias-kirschnereit.de/events/bruehl-schlosskonzerte-2/
END:VEVENT
END:VCALENDAR