BEGIN:VCALENDAR
VERSION:2.0
PRODID:-//eventon.com NONSGML v1.0//EN
CALSCALE:GREGORIAN
METHOD:PUBLISH
BEGIN:VEVENT
UID:69e8add194043
DTSTAMP:20260422T111529Z
DTSTART:20200724
DTEND:20200725
LOCATION:
SUMMARY:Coimbra (PRT) ! ABGESAGT !
DESCRIPTION:L. v. Beethoven: 5. Klavierkonzert gemeinsam mit dem Gulbenkian
  Orchestra\nhttps://www.matthias-kirschnereit.de/events/coimbra-pt/
URL:https://www.matthias-kirschnereit.de/events/coimbra-pt/
END:VEVENT
END:VCALENDAR