BEGIN:VCALENDAR
VERSION:2.0
PRODID:-//eventon.com NONSGML v1.0//EN
CALSCALE:GREGORIAN
METHOD:PUBLISH
BEGIN:VEVENT
UID:69e8972cb62ef
DTSTAMP:20260422T093852Z
DTSTART:20200302
DTEND:20200303
LOCATION:Bayerischer Rundfunk
SUMMARY:München - CD-Produktion
DESCRIPTION:mit dem Münchner Rundfunkorchester \,  Ulf Schirmer (Leitung)\
 nhttps://www.matthias-kirschnereit.de/events/muenchen-cd-produktion/
URL:https://www.matthias-kirschnereit.de/events/muenchen-cd-produktion/
END:VEVENT
END:VCALENDAR