BEGIN:VCALENDAR
VERSION:2.0
PRODID:-//eventon.com NONSGML v1.0//EN
CALSCALE:GREGORIAN
METHOD:PUBLISH
BEGIN:VEVENT
UID:69e642ac25a4a
DTSTAMP:20260420T151348Z
DTSTART:20070725
DTEND:20070726
LOCATION:Dorfkirche Landow
SUMMARY:Bozen\,  Italien
DESCRIPTION:im Rahmen der Konzertreihe &#8222;Festspiele Mecklenburg-Vorpom
 mern&#8220;\nhttps://www.matthias-kirschnereit.de/events/bozen-italien-2/
URL:https://www.matthias-kirschnereit.de/events/bozen-italien-2/
END:VEVENT
END:VCALENDAR