BEGIN:VCALENDAR
VERSION:2.0
PRODID:-//eventon.com NONSGML v1.0//EN
CALSCALE:GREGORIAN
METHOD:PUBLISH
BEGIN:VEVENT
UID:69e9e4940c298
DTSTAMP:20260423T092124Z
DTSTART:20080505
DTEND:20080506
LOCATION:Bamberg
SUMMARY:Hannover\,  Grosser Sendesaal des NDR
DESCRIPTION:Wolfgang Amadeus Mozart: Klavierkonzert A-Dur KV 414 Partner: B
 amberger Streichquartett\nhttps://www.matthias-kirschnereit.de/events/hanno
 ver-grosser-sendesaal-des-ndr/
URL:https://www.matthias-kirschnereit.de/events/hannover-grosser-sendesaal-des-ndr/
END:VEVENT
END:VCALENDAR