BEGIN:VCALENDAR
VERSION:2.0
PRODID:-//eventon.com NONSGML v1.0//EN
CALSCALE:GREGORIAN
METHOD:PUBLISH
BEGIN:VEVENT
UID:69e89709dc7ab
DTSTAMP:20260422T093817Z
DTSTART:20080531
DTEND:20080601
LOCATION:Bayrischer Rundfunk
SUMMARY:Waldshut\,  Bonndorf
DESCRIPTION:CD Einspielung mit Werken von Felix Mendelssohn Bartholdy\nhttp
 s://www.matthias-kirschnereit.de/events/waldshut-bonndorf/
URL:https://www.matthias-kirschnereit.de/events/waldshut-bonndorf/
END:VEVENT
END:VCALENDAR