BEGIN:VCALENDAR
VERSION:2.0
PRODID:-//eventon.com NONSGML v1.0//EN
CALSCALE:GREGORIAN
METHOD:PUBLISH
BEGIN:VEVENT
UID:69e6232cec6bc
DTSTAMP:20260420T125924Z
DTSTART:20110519
DTEND:20110520
LOCATION:Schwetzingen
SUMMARY:München
DESCRIPTION:Meisterkurs und Konzert\nhttps://www.matthias-kirschnereit.de/e
 vents/muenchen-10/
URL:https://www.matthias-kirschnereit.de/events/muenchen-10/
END:VEVENT
END:VCALENDAR