BEGIN:VCALENDAR
VERSION:2.0
PRODID:-//eventon.com NONSGML v1.0//EN
CALSCALE:GREGORIAN
METHOD:PUBLISH
BEGIN:VEVENT
UID:69e896950db68
DTSTAMP:20260422T093621Z
DTSTART:20110910
DTEND:20110911
LOCATION:Theatre Saint Michel
SUMMARY:Weikersheim
DESCRIPTION:Joseph Haydn\,  Klavierkonzert Nr. 11 D-Dur zusammen mit der Ne
 ubrandenburger Philharmonie unter der Leitung von Romely Pfund\nhttps://www
 .matthias-kirschnereit.de/events/weikersheim-2/
URL:https://www.matthias-kirschnereit.de/events/weikersheim-2/
END:VEVENT
END:VCALENDAR