BEGIN:VCALENDAR
VERSION:2.0
PRODID:-//eventon.com NONSGML v1.0//EN
CALSCALE:GREGORIAN
METHOD:PUBLISH
BEGIN:VEVENT
UID:69e8921824b79
DTSTAMP:20260422T091712Z
DTSTART:20111021
DTEND:20111022
LOCATION:St. Michaelis
SUMMARY:Siegburg
DESCRIPTION:Festkonzert zum 200. Geburtstag Franz Listzs; Solowerke und Lie
 der (mit Andreas Schmidt\,  Bariton)\nhttps://www.matthias-kirschnereit.de/
 events/siegburg/
URL:https://www.matthias-kirschnereit.de/events/siegburg/
END:VEVENT
END:VCALENDAR