BEGIN:VCALENDAR
VERSION:2.0
PRODID:-//eventon.com NONSGML v1.0//EN
CALSCALE:GREGORIAN
METHOD:PUBLISH
BEGIN:VEVENT
UID:69e8afb88a015
DTSTAMP:20260422T112336Z
DTSTART:20120425
DTEND:20120426
LOCATION:Schloss
SUMMARY:Eckernförde
DESCRIPTION:Bad Homburger Kammermusikfest &#8211; Eröffnungskonzert mit We
 rken von Debussy und Schumann gemeinsam mit Christian Tetzlaff (Violine)\, 
  Hyeyoon Park (Violine)\,  Nils Mönkemeyer (Viola)\,  Gabriel Schwabe (Vio
 loncello)\nhttps://www.matthias-kirschnereit.de/events/eckernfoerde-2/
URL:https://www.matthias-kirschnereit.de/events/eckernfoerde-2/
END:VEVENT
END:VCALENDAR