BEGIN:VCALENDAR
VERSION:2.0
PRODID:-//eventon.com NONSGML v1.0//EN
CALSCALE:GREGORIAN
METHOD:PUBLISH
BEGIN:VEVENT
UID:69e8aef6e378b
DTSTAMP:20260422T112022Z
DTSTART:20120930
DTEND:20121001
LOCATION:Kulturverein Zehntscheuer e.V.
SUMMARY:Coesfeld
DESCRIPTION:Recital mit Werken von Ginastera\,  Lachenmann\,  Schubert u.a.
 \nhttps://www.matthias-kirschnereit.de/events/coesfeld/
URL:https://www.matthias-kirschnereit.de/events/coesfeld/
END:VEVENT
END:VCALENDAR