BEGIN:VCALENDAR
VERSION:2.0
PRODID:-//eventon.com NONSGML v1.0//EN
CALSCALE:GREGORIAN
METHOD:PUBLISH
BEGIN:VEVENT
UID:69e624433036a
DTSTAMP:20260420T130403Z
DTSTART:20121203
DTEND:20121204
LOCATION:Lüdenscheid
SUMMARY:Rostock
DESCRIPTION:WDR Konzert mit Nicola Jürgensen (Klarinette)\,  Werke von Fau
 ré\,  Debussy\,  Hahn\,  Chopin u.a.\nhttps://www.matthias-kirschnereit.de
 /events/rostock-30/
URL:https://www.matthias-kirschnereit.de/events/rostock-30/
END:VEVENT
END:VCALENDAR