BEGIN:VCALENDAR
VERSION:2.0
PRODID:-//eventon.com NONSGML v1.0//EN
CALSCALE:GREGORIAN
METHOD:PUBLISH
BEGIN:VEVENT
UID:69e8970a958ab
DTSTAMP:20260422T093818Z
DTSTART:20130522
DTEND:20130523
LOCATION:Brühler Schloss
SUMMARY:Hamburg
DESCRIPTION:Klavierabend mit Werken von Mozart\,  Schubert u.a.\nhttps://ww
 w.matthias-kirschnereit.de/events/hamburg-20/
URL:https://www.matthias-kirschnereit.de/events/hamburg-20/
END:VEVENT
END:VCALENDAR