BEGIN:VCALENDAR
VERSION:2.0
PRODID:-//eventon.com NONSGML v1.0//EN
CALSCALE:GREGORIAN
METHOD:PUBLISH
BEGIN:VEVENT
UID:69e8984e6a3bf
DTSTAMP:20260422T094342Z
DTSTART:20130928
DTEND:20130929
LOCATION:Landschaftsforum Aurich
SUMMARY:Kühlungsborn
DESCRIPTION:Recital mit Werken von Mendelssohn-Bartholdy\,  Schubert\,  Sch
 umann u.a.\nhttps://www.matthias-kirschnereit.de/events/kuehlungsborn-5/
URL:https://www.matthias-kirschnereit.de/events/kuehlungsborn-5/
END:VEVENT
END:VCALENDAR