BEGIN:VCALENDAR
VERSION:2.0
PRODID:-//eventon.com NONSGML v1.0//EN
CALSCALE:GREGORIAN
METHOD:PUBLISH
BEGIN:VEVENT
UID:69e9fb2ca7dd6
DTSTAMP:20260423T105748Z
DTSTART:20150329
DTEND:20150330
LOCATION:hr-Sendesaal
SUMMARY:Heiligendamm
DESCRIPTION:Juryvorsitz beim Klavierwettbewerb &#8222;Ton und Erklärung&#8
 220;\nhttps://www.matthias-kirschnereit.de/events/heiligendamm-2/
URL:https://www.matthias-kirschnereit.de/events/heiligendamm-2/
END:VEVENT
END:VCALENDAR