BEGIN:VCALENDAR
VERSION:2.0
PRODID:-//eventon.com NONSGML v1.0//EN
CALSCALE:GREGORIAN
METHOD:PUBLISH
BEGIN:VEVENT
UID:69e890f4b2135
DTSTAMP:20260422T091220Z
DTSTART:20150523
DTEND:20150524
LOCATION:Braunlage
SUMMARY:Braunlager Maikonzerte
DESCRIPTION:Kammermusik mit Werken von Schumann\,  Brahms und anderen\,  ge
 meinsam mit Shirley Brill (Klarinette) und Alban Gerhardt (Cello)\nhttps://
 www.matthias-kirschnereit.de/events/braunlager-maikonzerte-3/
URL:https://www.matthias-kirschnereit.de/events/braunlager-maikonzerte-3/
END:VEVENT
END:VCALENDAR