BEGIN:VCALENDAR
VERSION:2.0
PRODID:-//eventon.com NONSGML v1.0//EN
CALSCALE:GREGORIAN
METHOD:PUBLISH
BEGIN:VEVENT
UID:69e8ad9ebb2a9
DTSTAMP:20260422T111438Z
DTSTART:20170223
DTEND:20170224
LOCATION:Landschaftsforum Aurich
SUMMARY:Recital
DESCRIPTION:Recital\nhttps://www.matthias-kirschnereit.de/events/recital/
URL:https://www.matthias-kirschnereit.de/events/recital/
END:VEVENT
END:VCALENDAR