BEGIN:VCALENDAR
VERSION:2.0
PRODID:-//eventon.com NONSGML v1.0//EN
CALSCALE:GREGORIAN
METHOD:PUBLISH
BEGIN:VEVENT
UID:69e8ad9eb93a7
DTSTAMP:20260422T111438Z
DTSTART:20170708
DTEND:20170709
LOCATION:Schloss Schwiessel
SUMMARY:Völlen\,  Kirche
DESCRIPTION:Ein Tag mit Matthias Kirschnereit Meisterkurs und Romantik-Salo
 n\nhttps://www.matthias-kirschnereit.de/events/voellen-kirche/
URL:https://www.matthias-kirschnereit.de/events/voellen-kirche/
END:VEVENT
END:VCALENDAR