BEGIN:VCALENDAR
VERSION:2.0
PRODID:-//eventon.com NONSGML v1.0//EN
CALSCALE:GREGORIAN
METHOD:PUBLISH
BEGIN:VEVENT
UID:69e896243b90d
DTSTAMP:20260422T093428Z
DTSTART:20171108
DTEND:20171109
LOCATION:Kultur
SUMMARY:Hamburg
DESCRIPTION:Felix Mendelssohn Bartholdy\,  Ouvertüre c-Moll op. 95 «Ruy B
 las» Wolfgang Amadeus Mozart\,  Konzert für Klavier und Orchester Nr. 27 
 B-Dur KV 595 Johannes Brahms\,  Symphonie Nr. 2 D-Dur op. 73\nhttps://www.m
 atthias-kirschnereit.de/events/hamburg-9/
URL:https://www.matthias-kirschnereit.de/events/hamburg-9/
END:VEVENT
END:VCALENDAR