BEGIN:VCALENDAR
VERSION:2.0
PRODID:-//eventon.com NONSGML v1.0//EN
CALSCALE:GREGORIAN
METHOD:PUBLISH
BEGIN:VEVENT
UID:69e8964e891c5
DTSTAMP:20260422T093510Z
DTSTART:20180803
DTEND:20180804
LOCATION:Pollmann
SUMMARY:Görlitz
DESCRIPTION:Gezeitenkonzerte Klavierquintett von Antonín Dvořák zusammen
  mit dem Minguet Quartett\nhttps://www.matthias-kirschnereit.de/events/goer
 litz/
URL:https://www.matthias-kirschnereit.de/events/goerlitz/
END:VEVENT
END:VCALENDAR