BEGIN:VCALENDAR
VERSION:2.0
PRODID:-//eventon.com NONSGML v1.0//EN
CALSCALE:GREGORIAN
METHOD:PUBLISH
BEGIN:VEVENT
UID:69ea05cd8ec25
DTSTAMP:20260423T114309Z
DTSTART:20180902
DTEND:20180903
LOCATION:Stadt Merano
SUMMARY:Moltzow
DESCRIPTION:Musikfestwochen Meran Werke von Brahms zusammen mit dem Amaryll
 is Quartett\nhttps://www.matthias-kirschnereit.de/events/moltzow/
URL:https://www.matthias-kirschnereit.de/events/moltzow/
END:VEVENT
END:VCALENDAR