BEGIN:VCALENDAR
VERSION:2.0
PRODID:-//eventon.com NONSGML v1.0//EN
CALSCALE:GREGORIAN
METHOD:PUBLISH
BEGIN:VEVENT
UID:69e895b7e5dab
DTSTAMP:20260422T093239Z
DTSTART:20190331
DTEND:20190401
LOCATION:Konzertsaal des Konservatoriums
SUMMARY:Wiesbaden
DESCRIPTION:Klavierabend mit Werken von Mozart\,  Chopin\,  Debussy\,  Rac
 hmaninoff\nhttps://www.matthias-kirschnereit.de/events/wiesbaden/
URL:https://www.matthias-kirschnereit.de/events/wiesbaden/
END:VEVENT
END:VCALENDAR