BEGIN:VCALENDAR
VERSION:2.0
PRODID:-//eventon.com NONSGML v1.0//EN
CALSCALE:GREGORIAN
METHOD:PUBLISH
BEGIN:VEVENT
UID:69e896a8b7980
DTSTAMP:20260422T093640Z
DTSTART:20190717
DTEND:20190718
LOCATION:
SUMMARY:Hamburg
DESCRIPTION:Hamburg\nhttps://www.matthias-kirschnereit.de/events/hamburg-2/
URL:https://www.matthias-kirschnereit.de/events/hamburg-2/
END:VEVENT
END:VCALENDAR