BEGIN:VCALENDAR
VERSION:2.0
PRODID:-//eventon.com NONSGML v1.0//EN
CALSCALE:GREGORIAN
METHOD:PUBLISH
BEGIN:VEVENT
UID:69e6254cdaeb3
DTSTAMP:20260420T130828Z
DTSTART:20191106
DTEND:20191107
LOCATION:
SUMMARY:Düsseldorf\,  Palais Wittgenstein
DESCRIPTION:Solowerke von Clara Schumann und Johannes Brahms Robert Schuman
 n: Klavierquintett\,  Partner: Minguet Quartett Weitere Informationen und T
 ickets\nhttps://www.matthias-kirschnereit.de/events/duesseldorf-palais-witt
 genstein/
URL:https://www.matthias-kirschnereit.de/events/duesseldorf-palais-wittgenstein/
END:VEVENT
END:VCALENDAR